BEGIN:VCALENDAR
VERSION:2.0
PRODID:-//eventon.com NONSGML v1.0//EN
CALSCALE:GREGORIAN
METHOD:PUBLISH
BEGIN:VEVENT
UID:69e60923d2f8d
DTSTAMP:20260420T110819Z
DTSTART:20211104T220000Z
DTEND:20211104T233000Z
LOCATION:
SUMMARY:Tratados de Libre Comercio: una herramienta para el desarrollo\,  Uruguay 2030
DESCRIPTION:Exponen: Ec. Luis Mosca\,  Mag. Gonzalo Oleggini y Dr. NicolĂˇs
  Albertoni. Cierre del evento: Dra. Carolina Ache (Vicecanciller de la RepĂ
 şblica). Modera: Cr. TabarĂ© Palermo\,  Prosecretario de PolĂ­tica Internac
 ional. Por inscripciones escribir a: politicainternacional@partidocolorado.
 uy\nhttps://partidocolorado.uy/eventos/tratados-de-libre-comercio-una-herra
 mienta-para-el-desarrollo-uruguay-2030/
URL:https://partidocolorado.uy/eventos/tratados-de-libre-comercio-una-herramienta-para-el-desarrollo-uruguay-2030/
END:VEVENT
END:VCALENDAR